BEGIN:VCALENDAR
VERSION:2.0
PRODID:-//Sabre//Sabre VObject 4.5.8//EN
CALSCALE:GREGORIAN
BEGIN:VEVENT
UID:sabre-vobject-0653c83f-50dc-4843-8752-02ffb86fcbc2
DTSTAMP:20260424T234859Z
SUMMARY:Senioren Fitness Rund um den Stuhl
DESCRIPTION:https://lindau.keb-oberallgaeu.de/ueber-uns/veranstaltungen/sen
 ioren-fitness-rund-um-den-stuhl_id293969
DTSTART;TZID=Europe/Berlin:20261012T090000
DTEND;TZID=Europe/Berlin:20261012T100000
LOCATION:Pfarrheim Scheidegg\, Pfarrweg 7\, 88175 Scheidegg
END:VEVENT
END:VCALENDAR
