BEGIN:VCALENDAR
VERSION:2.0
PRODID:-//Sabre//Sabre VObject 4.5.8//EN
CALSCALE:GREGORIAN
BEGIN:VEVENT
UID:sabre-vobject-1a2a0522-848f-4ea1-9b0a-8546ead2984d
DTSTAMP:20260424T150516Z
SUMMARY:Senioren Fitness Rund um den Stuhl
DESCRIPTION:https://lindau.keb-oberallgaeu.de/ueber-uns/veranstaltungen/sen
 ioren-fitness-rund-um-den-stuhl_id293945
DTSTART;TZID=Europe/Berlin:20260427T090000
DTEND;TZID=Europe/Berlin:20260427T100000
LOCATION:Pfarrheim Scheidegg\, Pfarrweg 7\, 88175 Scheidegg
END:VEVENT
END:VCALENDAR
