BEGIN:VCALENDAR
VERSION:2.0
PRODID:-//Sabre//Sabre VObject 4.5.8//EN
CALSCALE:GREGORIAN
BEGIN:VEVENT
UID:sabre-vobject-21534a69-10ca-4e37-adfc-16cb734b3091
DTSTAMP:20260421T081052Z
SUMMARY:Psalmen - Online-Veranstaltung
DESCRIPTION:https://lindau.keb-oberallgaeu.de/ueber-uns/veranstaltungen/psa
 lmen-online-veranstaltung_id285205
DTSTART;TZID=Europe/Berlin:20260219T193000
LOCATION:Online
END:VEVENT
END:VCALENDAR
