BEGIN:VCALENDAR
VERSION:2.0
PRODID:-//Sabre//Sabre VObject 4.5.8//EN
CALSCALE:GREGORIAN
BEGIN:VEVENT
UID:sabre-vobject-cb8dbf7d-69d7-4959-b934-bfcc2f20b644
DTSTAMP:20260421T081235Z
SUMMARY:Pilgerreise Kroatien und Bosnien Herzegowina
DESCRIPTION:https://lindau.keb-oberallgaeu.de/ueber-uns/veranstaltungen/pil
 gerreise-kroatien-und-bosnien-herzegowina_id279189
DTSTART;TZID=Europe/Berlin:20250707T000000
LOCATION:Pfarrheim\, Kirchstraße 17\, 88138 Weißensberg
END:VEVENT
END:VCALENDAR
