BEGIN:VCALENDAR
VERSION:2.0
PRODID:-//Sabre//Sabre VObject 4.5.8//EN
CALSCALE:GREGORIAN
BEGIN:VEVENT
UID:sabre-vobject-ed35953e-8f53-4875-aca7-a1e2219b1aad
DTSTAMP:20260421T081220Z
SUMMARY:Br. Günther Nährich Uganda kommt nach Mellatz
DESCRIPTION:https://lindau.keb-oberallgaeu.de/ueber-uns/veranstaltungen/br-
 guenther-naehrich-uganda-kommt-nach-mellatz_id278193
DTSTART;TZID=Europe/Berlin:20250510T190000
LOCATION:Missionshaus Mellatz\, Mellatz 39\, 88145 Opfenbach
END:VEVENT
END:VCALENDAR
