BEGIN:VCALENDAR
VERSION:2.0
PRODID:-//Sabre//Sabre VObject 4.5.8//EN
CALSCALE:GREGORIAN
BEGIN:VEVENT
UID:sabre-vobject-c173f17e-1f64-477f-a937-d4a97e3d951c
DTSTAMP:20260421T081359Z
SUMMARY:Ökumenische Exerzitien im Alltag
DESCRIPTION:https://lindau.keb-oberallgaeu.de/ueber-uns/veranstaltungen/oek
 umenische-exerzitien-im-alltag_id262744
DTSTART;TZID=Europe/Berlin:20250331T193000
LOCATION:Gemeindeheim Münster\, Fischergasse 12\, 88131 Lindau
END:VEVENT
END:VCALENDAR
