BEGIN:VCALENDAR
VERSION:2.0
PRODID:-//Sabre//Sabre VObject 4.5.8//EN
CALSCALE:GREGORIAN
BEGIN:VEVENT
UID:sabre-vobject-63a21514-c03d-47c9-9441-550cd842a385
DTSTAMP:20260421T081213Z
SUMMARY:Bildungsfahrt nach Konstanz anlässlich 1300 Jahre Klosterinsel Rei
 chenau
DESCRIPTION:https://lindau.keb-oberallgaeu.de/ueber-uns/veranstaltungen/bil
 dungsfahrt-nach-konstanz-anlaesslich-1300-jahre-klosterinsel-reichenau_id2
 34162
DTSTART;TZID=Europe/Berlin:20240910T073000
LOCATION:Archäologisches Landesmuseum\, Benediktinerplatz 5\, 78467 Konsta
 nz
END:VEVENT
END:VCALENDAR
